BEGIN:VCALENDAR
VERSION:2.0
CALSCALE:GREGORIAN
PRODID:-//Diputació de Barcelona//DibaCMS//EN
BEGIN:VEVENT
UID:3018
DTSTAMP:20260421T144522
DTSTART:20171228T090000
DTEND:20171228T110000
SUMMARY:Nova caminada del Mou-te
LOCATION:
METHOD:PUBLISH
X-WR-CALNAME:capellades@capellades.cat
X-WR-TIMEZONE:Europe/Madrid
DESCRIPTION:Des del CAP Capellades es vol promoure la salut de manera activa. Per això durant tot l'any s'organitzen caminades pels voltants de Capellades,cada tercer dijous de mes.

URI:https://www.capellades.cat/actualitat/agenda/nova-caminada-del-mou-te.html
CLASS:PUBLIC
END:VEVENT
END:VCALENDAR
