BEGIN:VCALENDAR
VERSION:2.0
CALSCALE:GREGORIAN
PRODID:-//Diputació de Barcelona//DibaCMS//EN
BEGIN:VEVENT
UID:3017
DTSTAMP:20260421T190012
DTSTART:20171226T190000
DTEND:20171226T210000
SUMMARY:Concert de Sant Esteve Coral Noves Veus
LOCATION:
METHOD:PUBLISH
X-WR-CALNAME:capellades@capellades.cat
X-WR-TIMEZONE:Europe/Madrid
DESCRIPTION:La Coral Noves Veus de Capellades prepara un any més el seu tradicional Concert de Sant Esteve.

URI:https://www.capellades.cat/actualitat/agenda/concert-de-sant-esteve-coral-noves-veus.html
CLASS:PUBLIC
END:VEVENT
END:VCALENDAR
