BEGIN:VCALENDAR
VERSION:2.0
CALSCALE:GREGORIAN
PRODID:-//Diputació de Barcelona//DibaCMS//EN
BEGIN:VEVENT
UID:3014
DTSTAMP:20260420T071250
DTSTART:20171225T110000
DTEND:20171225T123000
SUMMARY:Cantada infantil de Nadales a la Residència
LOCATION:Passeig de la Immaculada Concepció, 3 08786 Capellades
METHOD:PUBLISH
X-WR-CALNAME:capellades@capellades.cat
X-WR-TIMEZONE:Europe/Madrid
DESCRIPTION:Els nens i nenes de la Coral Xeremell, i tots els qui han volgut sumar-se a aquesta iniciativa, faran una cantada de nadales per als avis i àvies de la Residència Fundació Consorts Guasch.

URI:https://www.capellades.cat/actualitat/agenda/cantada-infantil-de-nadales-a-la-residencia.html
CLASS:PUBLIC
END:VEVENT
END:VCALENDAR
