BEGIN:VCALENDAR
VERSION:2.0
CALSCALE:GREGORIAN
PRODID:-//Diputació de Barcelona//DibaCMS//EN
BEGIN:VEVENT
UID:3012
DTSTAMP:20260421T103912
DTSTART:20171225T010000
DTEND:20180114T200000
SUMMARY:Exposició de Pessebres
LOCATION:Plaça Verdaguer 08786 Capellades
METHOD:PUBLISH
X-WR-CALNAME:capellades@capellades.cat
X-WR-TIMEZONE:Europe/Madrid
DESCRIPTION:Els Amics dels Pessebres i la Parròquia de Santa Maria organitzen un any més l'exposició de Pessebres a l'església de Santa Maria. 

URI:https://www.capellades.cat/actualitat/agenda/exposicio-de-pessebres.html
CLASS:PUBLIC
END:VEVENT
END:VCALENDAR
