BEGIN:VCALENDAR
VERSION:2.0
CALSCALE:GREGORIAN
PRODID:-//Diputació de Barcelona//DibaCMS//EN
BEGIN:VEVENT
UID:3008
DTSTAMP:20260421T113923
DTSTART:20171223T180000
DTEND:20171223T193000
SUMMARY:Concert de Nadal de la Coral Xeremell
LOCATION:
METHOD:PUBLISH
X-WR-CALNAME:capellades@capellades.cat
X-WR-TIMEZONE:Europe/Madrid
DESCRIPTION:Els nens i nenes de la Coral Xeremell faran el dissabte 23 de desembre a les sis de la tarda el seu Concert de Nadal.

URI:https://www.capellades.cat/actualitat/agenda/concert-de-nadal-de-la-coral-xeremell.html
CLASS:PUBLIC
END:VEVENT
END:VCALENDAR
