BEGIN:VCALENDAR
VERSION:2.0
CALSCALE:GREGORIAN
PRODID:-//Diputació de Barcelona//DibaCMS//EN
BEGIN:VEVENT
UID:3006
DTSTAMP:20260421T190151
DTSTART:20171222T170000
DTEND:20171222T190000
SUMMARY:Super bingo de Nadal
LOCATION:Passeig de la Immaculada Concepció, 3 08786 Capellades
METHOD:PUBLISH
X-WR-CALNAME:capellades@capellades.cat
X-WR-TIMEZONE:Europe/Madrid
DESCRIPTION:Els avis i avies de la Residència, acompanyats dels seus familiars i dels voluntaris i les voluntàries, podran jugar al Súper Bingo de Nadal. 

URI:https://www.capellades.cat/actualitat/agenda/super-bingo-de-nadal.html
CLASS:PUBLIC
END:VEVENT
END:VCALENDAR
