BEGIN:VCALENDAR
VERSION:2.0
CALSCALE:GREGORIAN
PRODID:-//Diputació de Barcelona//DibaCMS//EN
BEGIN:VEVENT
UID:3005
DTSTAMP:20260422T003842
DTSTART:20171222T103000
DTEND:20171222T120000
SUMMARY:Caga Tió a la Residència
LOCATION:Passeig de la Immaculada Concepció, 3 08786 Capellades
METHOD:PUBLISH
X-WR-CALNAME:capellades@capellades.cat
X-WR-TIMEZONE:Europe/Madrid
DESCRIPTION:Els avis i àvies de la Fundació Consorts Guasch podran fer la seva festa del Caga Tió després de celebrar la missa de Ressurrecció.

URI:https://www.capellades.cat/actualitat/agenda/caga-tio-a-la-residencia.html
CLASS:PUBLIC
END:VEVENT
END:VCALENDAR
