BEGIN:VCALENDAR
VERSION:2.0
CALSCALE:GREGORIAN
PRODID:-//Diputació de Barcelona//DibaCMS//EN
BEGIN:VEVENT
UID:3001
DTSTAMP:20260422T050711
DTSTART:20171218T160000
DTEND:20171218T170000
SUMMARY:Nadales a la Residència
LOCATION:
METHOD:PUBLISH
X-WR-CALNAME:capellades@capellades.cat
X-WR-TIMEZONE:Europe/Madrid
DESCRIPTION:El Coro de la Unió Extremeña de l'Anoia de Vilanova del Camí portarà una selecció de nadales a la Fundació Consorts Guasch.

URI:https://www.capellades.cat/actualitat/agenda/nadales-a-la-residencia.html
CLASS:PUBLIC
END:VEVENT
END:VCALENDAR
