BEGIN:VCALENDAR
VERSION:2.0
CALSCALE:GREGORIAN
PRODID:-//Diputació de Barcelona//DibaCMS//EN
BEGIN:VEVENT
UID:2999
DTSTAMP:20260422T020544
DTSTART:20171217T090000
DTEND:20171217T130000
SUMMARY:Caminant per la comarca
LOCATION:
METHOD:PUBLISH
X-WR-CALNAME:capellades@capellades.cat
X-WR-TIMEZONE:Europe/Madrid
DESCRIPTION:Caminant per la comarca proposa aquest mes de desembre una excursió al Pantà de Foix.

URI:https://www.capellades.cat/actualitat/agenda/2999-caminant-per-la-comarca.html
CLASS:PUBLIC
END:VEVENT
END:VCALENDAR
