BEGIN:VCALENDAR
VERSION:2.0
CALSCALE:GREGORIAN
PRODID:-//Diputació de Barcelona//DibaCMS//EN
BEGIN:VEVENT
UID:2997
DTSTAMP:20260421T201243
DTSTART:20171216T170000
DTEND:20171216T180000
SUMMARY:Actuació del Grup Play Back a la Residència
LOCATION:Passeig de la Immaculada Concepció, 3 08786 Capellades
METHOD:PUBLISH
X-WR-CALNAME:capellades@capellades.cat
X-WR-TIMEZONE:Europe/Madrid
DESCRIPTION:El Grup Play Back portarà el seu humor i la seva música dels anys 60 i 70 a la Fundació Consorts Guasch.

URI:https://www.capellades.cat/actualitat/agenda/actuacio-del-grup-play-back-a-la-residencia.html
CLASS:PUBLIC
END:VEVENT
END:VCALENDAR
