BEGIN:VCALENDAR
VERSION:2.0
CALSCALE:GREGORIAN
PRODID:-//Diputació de Barcelona//DibaCMS//EN
BEGIN:VEVENT
UID:2991
DTSTAMP:20260422T064124
DTSTART:20171214T160000
DTEND:20171214T190000
SUMMARY:Nova visita del SIAD
LOCATION:C/ Pilar, 2 08786 Capellades
METHOD:PUBLISH
X-WR-CALNAME:capellades@capellades.cat
X-WR-TIMEZONE:Europe/Madrid
DESCRIPTION:El Servei d'Informació i Atenció a la Dona atendrà tots els dubtes relacionats amb qüestions legals, psicològiques o de serveis.

URI:https://www.capellades.cat/actualitat/agenda/2991-nova-visita-del-siad.html
CLASS:PUBLIC
END:VEVENT
END:VCALENDAR
