BEGIN:VCALENDAR
VERSION:2.0
CALSCALE:GREGORIAN
PRODID:-//Diputació de Barcelona//DibaCMS//EN
BEGIN:VEVENT
UID:2990
DTSTAMP:20260421T202735
DTSTART:20171214T080000
DTEND:20171214T190000
SUMMARY:Excursió de la Penya Blaugrana de Capellades
LOCATION:
METHOD:PUBLISH
X-WR-CALNAME:capellades@capellades.cat
X-WR-TIMEZONE:Europe/Madrid
DESCRIPTION:La Penya blaugrana de Capellades organitza una excursió per anar a comprar torrons i visitar el castell del Santuari del Remei i la fàbrica de la cerveses de San Miguel.

URI:https://www.capellades.cat/actualitat/agenda/excursio-de-la-penya-blaugrana-de-capellades.html
CLASS:PUBLIC
END:VEVENT
END:VCALENDAR
