BEGIN:VCALENDAR
VERSION:2.0
CALSCALE:GREGORIAN
PRODID:-//Diputació de Barcelona//DibaCMS//EN
BEGIN:VEVENT
UID:2989
DTSTAMP:20260421T104325
DTSTART:20171213T180000
DTEND:20171213T200000
SUMMARY:Xerrada sobre els masclismes qüotidians
LOCATION:C/ Pilar, 2 08786 Capellades
METHOD:PUBLISH
X-WR-CALNAME:capellades@capellades.cat
X-WR-TIMEZONE:Europe/Madrid
DESCRIPTION:A les sis de la tarda a la Biblioteca El Safareig es podrà escoltar la xerrada sobre "Els masclismes quotidians".

URI:https://www.capellades.cat/actualitat/agenda/xerrada-sobre-els-masclismes-quotidians.html
CLASS:PUBLIC
END:VEVENT
END:VCALENDAR
