BEGIN:VCALENDAR
VERSION:2.0
CALSCALE:GREGORIAN
PRODID:-//Diputació de Barcelona//DibaCMS//EN
BEGIN:VEVENT
UID:2987
DTSTAMP:20260421T132843
DTSTART:20171217T180000
DTEND:20171217T200000
SUMMARY:Concert d'Orgue, Bach segons Juan de la Rubia
LOCATION:Plaça Verdaguer 08786 Capellades
METHOD:PUBLISH
X-WR-CALNAME:capellades@capellades.cat
X-WR-TIMEZONE:Europe/Madrid
DESCRIPTION:Aquest diumenge a les 6 de la tarda, darrer concert del Festival d'Orgue de Capellades.

URI:https://www.capellades.cat/actualitat/agenda/concert-dorgue-bach-segons-juan-de-la-rubia.html
CLASS:PUBLIC
END:VEVENT
END:VCALENDAR
