BEGIN:VCALENDAR
VERSION:2.0
CALSCALE:GREGORIAN
PRODID:-//Diputació de Barcelona//DibaCMS//EN
BEGIN:VEVENT
UID:2981
DTSTAMP:20260422T022257
DTSTART:20171217T123000
DTEND:20171217T130000
SUMMARY:Inauguració exposició pintures Assumpta Soler
LOCATION:
METHOD:PUBLISH
X-WR-CALNAME:capellades@capellades.cat
X-WR-TIMEZONE:Europe/Madrid
DESCRIPTION:El Saló Rosa acollirà l'exposició amb els treballs de l'Assumpta Soler.

URI:https://www.capellades.cat/actualitat/agenda/inauguracio-exposicio-pintures-assumpta-soler.html
CLASS:PUBLIC
END:VEVENT
END:VCALENDAR
