BEGIN:VCALENDAR
VERSION:2.0
CALSCALE:GREGORIAN
PRODID:-//Diputació de Barcelona//DibaCMS//EN
BEGIN:VEVENT
UID:2980
DTSTAMP:20260421T130444
DTSTART:20171215T210000
DTEND:20171215T235000
SUMMARY:Sopar sorpresa amb maridatge de vins
LOCATION:
METHOD:PUBLISH
X-WR-CALNAME:capellades@capellades.cat
X-WR-TIMEZONE:Europe/Madrid
DESCRIPTION:La Societat La Lliga i la Bodega J. Torres organitzen un sopar sorpresa amb maridatge de vins.

URI:https://www.capellades.cat/actualitat/agenda/sopar-sorpresa-amb-maridatge-de-vins.html
CLASS:PUBLIC
END:VEVENT
END:VCALENDAR
