BEGIN:VCALENDAR
VERSION:2.0
CALSCALE:GREGORIAN
PRODID:-//Diputació de Barcelona//DibaCMS//EN
BEGIN:VEVENT
UID:2979
DTSTAMP:20260422T114553
DTSTART:20171211T000000
DTEND:20171211T000000
SUMMARY:Xerrada de salut
LOCATION:
METHOD:PUBLISH
X-WR-CALNAME:capellades@capellades.cat
X-WR-TIMEZONE:Europe/Madrid
DESCRIPTION:La 26a edició del programa es farà el diumenge 17 de desembre i estarà dedicada al grup de malalties infeccioses.

URI:https://www.capellades.cat/actualitat/agenda/2979-xerrada-de-salut.html
CLASS:PUBLIC
END:VEVENT
END:VCALENDAR
