BEGIN:VCALENDAR
VERSION:2.0
CALSCALE:GREGORIAN
PRODID:-//Diputació de Barcelona//DibaCMS//EN
BEGIN:VEVENT
UID:2978
DTSTAMP:20260422T033430
DTSTART:20171214T200000
DTEND:20171214T210000
SUMMARY:Xerrada de salut
LOCATION:C/ Pilar, 13 08786 Capellades
METHOD:PUBLISH
X-WR-CALNAME:capellades@capellades.cat
X-WR-TIMEZONE:Europe/Madrid
DESCRIPTION:La 26a edició del programa es farà el diumenge 17 de desembre i estarà dedicada al grup de malalties infeccioses.

URI:https://www.capellades.cat/actualitat/agenda/xerrada-de-salut.html
CLASS:PUBLIC
END:VEVENT
END:VCALENDAR
