BEGIN:VCALENDAR
VERSION:2.0
CALSCALE:GREGORIAN
PRODID:-//Diputació de Barcelona//DibaCMS//EN
BEGIN:VEVENT
UID:2976
DTSTAMP:20260421T145022
DTSTART:20171215T180000
DTEND:20171215T190000
SUMMARY:Taller de punts de llibre
LOCATION:C/ Pilar, 2 08786 Capellades
METHOD:PUBLISH
X-WR-CALNAME:capellades@capellades.cat
X-WR-TIMEZONE:Europe/Madrid
DESCRIPTION:Taller de punts de llibre especial Marató de TV3, a la Sala Infantil.

URI:https://www.capellades.cat/actualitat/agenda/taller-de-punts-de-llibre.html
CLASS:PUBLIC
END:VEVENT
END:VCALENDAR
