BEGIN:VCALENDAR
VERSION:2.0
CALSCALE:GREGORIAN
PRODID:-//Diputació de Barcelona//DibaCMS//EN
BEGIN:VEVENT
UID:2975
DTSTAMP:20260421T201222
DTSTART:20171214T190000
DTEND:20171214T200000
SUMMARY:Xerrada sobre cuina
LOCATION:C/ Pilar, 2 08786 Capellades
METHOD:PUBLISH
X-WR-CALNAME:capellades@capellades.cat
X-WR-TIMEZONE:Europe/Madrid
DESCRIPTION:Nova xerrada de la Biblioteca El Safareig, en aquest cas sobre cuina.

URI:https://www.capellades.cat/actualitat/agenda/xerrada-sobre-cuina.html
CLASS:PUBLIC
END:VEVENT
END:VCALENDAR
