BEGIN:VCALENDAR
VERSION:2.0
CALSCALE:GREGORIAN
PRODID:-//Diputació de Barcelona//DibaCMS//EN
BEGIN:VEVENT
UID:2972
DTSTAMP:20260419T165549
DTSTART:20171211T153000
DTEND:20171216T200000
SUMMARY:Venda de llibres solidaris per La Marató
LOCATION:C/ Pilar, 2 08786 Capellades
METHOD:PUBLISH
X-WR-CALNAME:capellades@capellades.cat
X-WR-TIMEZONE:Europe/Madrid
DESCRIPTION:La Biblioteca organitza per segon any una venda solidària de llibres per recollir diners per La Marató de TV3.

URI:https://www.capellades.cat/actualitat/agenda/venda-de-llibres-solidaris-per-la-marato.html
CLASS:PUBLIC
END:VEVENT
END:VCALENDAR
