BEGIN:VCALENDAR
VERSION:2.0
CALSCALE:GREGORIAN
PRODID:-//Diputació de Barcelona//DibaCMS//EN
BEGIN:VEVENT
UID:2968
DTSTAMP:20260421T130409
DTSTART:20171210T180000
DTEND:20171210T200000
SUMMARY:Concert de Nadal amb la Big Band
LOCATION:C/ Pilar, 13 08786 Capellades
METHOD:PUBLISH
X-WR-CALNAME:capellades@capellades.cat
X-WR-TIMEZONE:Europe/Madrid
DESCRIPTION:La big Band de l'Escola de Música farà el Concert de Nadal aquest diumenge 10 de desembre al Teatre La Lliga de Capellades

URI:https://www.capellades.cat/actualitat/agenda/concert-de-nadal-amb-la-big-band.html
CLASS:PUBLIC
END:VEVENT
END:VCALENDAR
