BEGIN:VCALENDAR
VERSION:2.0
CALSCALE:GREGORIAN
PRODID:-//Diputació de Barcelona//DibaCMS//EN
BEGIN:VEVENT
UID:2965
DTSTAMP:20260420T044515
DTSTART:20171210T130000
DTEND:20171210T140000
SUMMARY:Concert Vermut amb Joan i Anna
LOCATION:C/ Pilar, 13 08786 Capellades
METHOD:PUBLISH
X-WR-CALNAME:capellades@capellades.cat
X-WR-TIMEZONE:Europe/Madrid
DESCRIPTION:Joan i Anna o Anna i Joan! Dos joves músics que ens volen transmetre el que els aporta i fa sentir la música. Juguen amb el jazz, la bossa i la cançó catalana donant el seu toc personal i diferent. Els agrada que el públic s´ho passi bé amb ells i s’emocioni.

URI:https://www.capellades.cat/actualitat/agenda/concert-vermut-amb-joan-i-anna.html
CLASS:PUBLIC
END:VEVENT
END:VCALENDAR
