BEGIN:VCALENDAR
VERSION:2.0
CALSCALE:GREGORIAN
PRODID:-//Diputació de Barcelona//DibaCMS//EN
BEGIN:VEVENT
UID:2958
DTSTAMP:20260420T074948
DTSTART:20171205T180000
DTEND:20171205T190000
SUMMARY:Tarda de cinema amb crispetes
LOCATION:C/ Pilar, 2 08786 Capellades
METHOD:PUBLISH
X-WR-CALNAME:capellades@capellades.cat
X-WR-TIMEZONE:Europe/Madrid
DESCRIPTION:
URI:https://www.capellades.cat/actualitat/agenda/tarda-de-cinema-amb-crispetes.html
CLASS:PUBLIC
END:VEVENT
END:VCALENDAR
