BEGIN:VCALENDAR
VERSION:2.0
CALSCALE:GREGORIAN
PRODID:-//Diputació de Barcelona//DibaCMS//EN
BEGIN:VEVENT
UID:2956
DTSTAMP:20260421T185159
DTSTART:20171203T143000
DTEND:20171203T160000
SUMMARY:Jornada solidària Coro Morenita de la Sierra
LOCATION:C/ Pilar, 13 08786 Capellades
METHOD:PUBLISH
X-WR-CALNAME:capellades@capellades.cat
X-WR-TIMEZONE:Europe/Madrid
DESCRIPTION:La Casa d'Andalusia organitza una jornada solidària per aquest diumenge.

URI:https://www.capellades.cat/actualitat/agenda/jornada-solidaria-coro-morenita-de-la-sierra.html
CLASS:PUBLIC
END:VEVENT
END:VCALENDAR
