BEGIN:VCALENDAR
VERSION:2.0
CALSCALE:GREGORIAN
PRODID:-//Diputació de Barcelona//DibaCMS//EN
BEGIN:VEVENT
UID:2955
DTSTAMP:20260422T132038
DTSTART:20171203T110000
DTEND:20171203T160000
SUMMARY:Jornada billarista
LOCATION:C/ Pilar, 13 08786 Capellades
METHOD:PUBLISH
X-WR-CALNAME:capellades@capellades.cat
X-WR-TIMEZONE:Europe/Madrid
DESCRIPTION:Ja és tradició!

URI:https://www.capellades.cat/actualitat/agenda/jornada-billarista.html
CLASS:PUBLIC
END:VEVENT
END:VCALENDAR
