BEGIN:VCALENDAR
VERSION:2.0
CALSCALE:GREGORIAN
PRODID:-//Diputació de Barcelona//DibaCMS//EN
BEGIN:VEVENT
UID:2954
DTSTAMP:20260421T115611
DTSTART:20171203T120000
DTEND:20171203T180000
SUMMARY:Vermut - Dinar
LOCATION:Pg. Miquel i Mas, 19 08786 Capellades
METHOD:PUBLISH
X-WR-CALNAME:capellades@capellades.cat
X-WR-TIMEZONE:Europe/Madrid
DESCRIPTION:Aquest diumenge es fa una jornada festiva al pati de l'escola Marquès de la Pobla.

URI:https://www.capellades.cat/actualitat/agenda/vermut-dinar.html
CLASS:PUBLIC
END:VEVENT
END:VCALENDAR
