BEGIN:VCALENDAR
VERSION:2.0
CALSCALE:GREGORIAN
PRODID:-//Diputació de Barcelona//DibaCMS//EN
BEGIN:VEVENT
UID:2953
DTSTAMP:20260421T202832
DTSTART:20171203T110000
DTEND:20171203T140000
SUMMARY:Santa Bàrbara
LOCATION:08786 Capellades
METHOD:PUBLISH
X-WR-CALNAME:capellades@capellades.cat
X-WR-TIMEZONE:Europe/Madrid
DESCRIPTION:El primer diumenge de desembre es celebra a la capellades de la Font de la Reina la festa de Santa Bàrbara.

URI:https://www.capellades.cat/actualitat/agenda/2953-santa-barbara.html
CLASS:PUBLIC
END:VEVENT
END:VCALENDAR
