BEGIN:VCALENDAR
VERSION:2.0
CALSCALE:GREGORIAN
PRODID:-//Diputació de Barcelona//DibaCMS//EN
BEGIN:VEVENT
UID:2951
DTSTAMP:20260421T202617
DTSTART:20171202T093000
DTEND:20171202T140000
SUMMARY:Mil Jocs, mil llocs
LOCATION:
METHOD:PUBLISH
X-WR-CALNAME:capellades@capellades.cat
X-WR-TIMEZONE:Europe/Madrid
DESCRIPTION:L'Escola Marquès de la Pobla convida a una jornada de treball per redifinir i treballar diversos aspectes del pati de l'escola.

URI:https://www.capellades.cat/actualitat/agenda/mil-jocs-mil-llocs.html
CLASS:PUBLIC
END:VEVENT
END:VCALENDAR
