BEGIN:VCALENDAR
VERSION:2.0
CALSCALE:GREGORIAN
PRODID:-//Diputació de Barcelona//DibaCMS//EN
BEGIN:VEVENT
UID:2950
DTSTAMP:20260421T231319
DTSTART:20171201T200000
DTEND:20171201T200000
SUMMARY:Receptes de Nadal 
LOCATION:
METHOD:PUBLISH
X-WR-CALNAME:capellades@capellades.cat
X-WR-TIMEZONE:Europe/Madrid
DESCRIPTION:Retalls de cuina proposa Receptes per al Menú de Nadal.

URI:https://www.capellades.cat/actualitat/agenda/receptes-de-nadal-.html
CLASS:PUBLIC
END:VEVENT
END:VCALENDAR
