BEGIN:VCALENDAR
VERSION:2.0
CALSCALE:GREGORIAN
PRODID:-//Diputació de Barcelona//DibaCMS//EN
BEGIN:VEVENT
UID:2947
DTSTAMP:20260421T231356
DTSTART:20171201T170000
DTEND:20171201T180000
SUMMARY:Presentació del Consell d'Infants
LOCATION:C/ Divina Pastora, 1 08786 Capellades
METHOD:PUBLISH
X-WR-CALNAME:capellades@capellades.cat
X-WR-TIMEZONE:Europe/Madrid
DESCRIPTION:Aquest divendres 1 de desembre es presenta a les famílies el nou Consell d'Infants.

URI:https://www.capellades.cat/actualitat/agenda/presentacio-del-consell-dinfants.html
CLASS:PUBLIC
END:VEVENT
END:VCALENDAR
