BEGIN:VCALENDAR
VERSION:2.0
CALSCALE:GREGORIAN
PRODID:-//Diputació de Barcelona//DibaCMS//EN
BEGIN:VEVENT
UID:2946
DTSTAMP:20260421T204500
DTSTART:20171201T090000
DTEND:20171202T210000
SUMMARY:Gran Recapte d'Aliments
LOCATION:
METHOD:PUBLISH
X-WR-CALNAME:capellades@capellades.cat
X-WR-TIMEZONE:Europe/Madrid
DESCRIPTION:El Banc d'Aliments a Capellades promou una nova jornada solidària.

URI:https://www.capellades.cat/actualitat/agenda/gran-recapte-daliments.html
CLASS:PUBLIC
END:VEVENT
END:VCALENDAR
