BEGIN:VCALENDAR
VERSION:2.0
CALSCALE:GREGORIAN
PRODID:-//Diputació de Barcelona//DibaCMS//EN
BEGIN:VEVENT
UID:2932
DTSTAMP:20260421T184847
DTSTART:20171203T180000
DTEND:20171203T200000
SUMMARY:Grans compositors del Barroc
LOCATION:Plaça Verdaguer 08786 Capellades
METHOD:PUBLISH
X-WR-CALNAME:capellades@capellades.cat
X-WR-TIMEZONE:Europe/Madrid
DESCRIPTION:El tercer concert del Festival d'Orgue de Capellades serà el diumenge 3 de desembre a les 6 de la tarda a l'església de Santa Maria.

URI:https://www.capellades.cat/actualitat/agenda/grans-compositors-del-barroc.html
CLASS:PUBLIC
END:VEVENT
END:VCALENDAR
