BEGIN:VCALENDAR
VERSION:2.0
CALSCALE:GREGORIAN
PRODID:-//Diputació de Barcelona//DibaCMS//EN
BEGIN:VEVENT
UID:2929
DTSTAMP:20260419T200251
DTSTART:20171125T170000
DTEND:20171125T190000
SUMMARY:VII Festival Solidario por 1 Kg
LOCATION:C/ Divina Pastora, 1 08786 Capellades
METHOD:PUBLISH
X-WR-CALNAME:capellades@capellades.cat
X-WR-TIMEZONE:Europe/Madrid
DESCRIPTION:El coro Romero Virgen de la Cabeza de Capellades organitza un any més el "VII Festival Solidario por 1 Kg".

URI:https://www.capellades.cat/actualitat/agenda/vii-festival-solidario-por-1-kg.html
CLASS:PUBLIC
END:VEVENT
END:VCALENDAR
