BEGIN:VCALENDAR
VERSION:2.0
CALSCALE:GREGORIAN
PRODID:-//Diputació de Barcelona//DibaCMS//EN
BEGIN:VEVENT
UID:2918
DTSTAMP:20260420T024423
DTSTART:20171130T193000
DTEND:20171130T210000
SUMMARY:Presentació del llibre  Llàgrimes de tardor
LOCATION:C/ Pilar, 13 08786 Capellades
METHOD:PUBLISH
X-WR-CALNAME:capellades@capellades.cat
X-WR-TIMEZONE:Europe/Madrid
DESCRIPTION:Serà a dos quarts de vuit del vespre al Saló Rosa.

URI:https://www.capellades.cat/actualitat/agenda/presentacio-del-llibre-llagrimes-de-tardor.html
CLASS:PUBLIC
END:VEVENT
END:VCALENDAR
