BEGIN:VCALENDAR
VERSION:2.0
CALSCALE:GREGORIAN
PRODID:-//Diputació de Barcelona//DibaCMS//EN
BEGIN:VEVENT
UID:2914
DTSTAMP:20260421T142901
DTSTART:20171125T100000
DTEND:20171126T143000
SUMMARY:Segona edició del PaPerPaper
LOCATION:Pau Casals, 10 08786 Capellades
METHOD:PUBLISH
X-WR-CALNAME:capellades@capellades.cat
X-WR-TIMEZONE:Europe/Madrid
DESCRIPTION:Aquest dissabte es fa al Museu Molí Paperer de Capellades la segona edició del PaPerPaper, organitzat pel Museu, l'Ajuntament i l'empresa Gustavo Rojo.

URI:https://www.capellades.cat/actualitat/agenda/segona-edicio-del-paperpaper.html
CLASS:PUBLIC
END:VEVENT
END:VCALENDAR
