BEGIN:VCALENDAR
VERSION:2.0
CALSCALE:GREGORIAN
PRODID:-//Diputació de Barcelona//DibaCMS//EN
BEGIN:VEVENT
UID:2907
DTSTAMP:20260422T141348
DTSTART:20171118T104500
DTEND:20171118T130000
SUMMARY:Taller de grafiti contra la violència de gènere
LOCATION:
METHOD:PUBLISH
X-WR-CALNAME:capellades@capellades.cat
X-WR-TIMEZONE:Europe/Madrid
DESCRIPTION:L'Àrea de Joventut de l'Ajuntament de Capellades organitza un taller de grafiti contra la violència de gènere per aquest dissabte.

URI:https://www.capellades.cat/actualitat/agenda/taller-de-grafiti-contra-la-violencia-de-genere.html
CLASS:PUBLIC
END:VEVENT
END:VCALENDAR
