BEGIN:VCALENDAR
VERSION:2.0
CALSCALE:GREGORIAN
PRODID:-//Diputació de Barcelona//DibaCMS//EN
BEGIN:VEVENT
UID:2906
DTSTAMP:20260421T132725
DTSTART:20171123T190000
DTEND:20171123T200000
SUMMARY:Xerrada sobre el dret a morir dignament
LOCATION:
METHOD:PUBLISH
X-WR-CALNAME:capellades@capellades.cat
X-WR-TIMEZONE:Europe/Madrid
DESCRIPTION:Morir Dignament, dels drets que ja tenim als que encara ens falten.
 

URI:https://www.capellades.cat/actualitat/agenda/xerrada-sobre-el-dret-a-morir-dignament.html
CLASS:PUBLIC
END:VEVENT
END:VCALENDAR
