BEGIN:VCALENDAR
VERSION:2.0
CALSCALE:GREGORIAN
PRODID:-//Diputació de Barcelona//DibaCMS//EN
BEGIN:VEVENT
UID:2905
DTSTAMP:20260421T113720
DTSTART:20171123T093000
DTEND:20171123T110000
SUMMARY:Zoom Festival Kids a Capellades
LOCATION:C/ Pilar, 13 08786 Capellades
METHOD:PUBLISH
X-WR-CALNAME:capellades@capellades.cat
X-WR-TIMEZONE:Europe/Madrid
DESCRIPTION:El Zoom Festival Kids d'Igualada s'amplia a la comarca.

URI:https://www.capellades.cat/actualitat/agenda/zoom-festival-kids-a-capellades.html
CLASS:PUBLIC
END:VEVENT
END:VCALENDAR
