BEGIN:VCALENDAR
VERSION:2.0
CALSCALE:GREGORIAN
PRODID:-//Diputació de Barcelona//DibaCMS//EN
BEGIN:VEVENT
UID:2903
DTSTAMP:20260421T122110
DTSTART:20171122T190000
DTEND:20171122T200000
SUMMARY:Club de Lectura obert a tothom
LOCATION:C/ Pilar, 2 08786 Capellades
METHOD:PUBLISH
X-WR-CALNAME:capellades@capellades.cat
X-WR-TIMEZONE:Europe/Madrid
DESCRIPTION:La biblioteca El Safareig proposa una sessió del Club de Lectura oberta a tothom i no només als participants habituals del club.

URI:https://www.capellades.cat/actualitat/agenda/club-de-lectura-obert-a-tothom.html
CLASS:PUBLIC
END:VEVENT
END:VCALENDAR
