BEGIN:VCALENDAR
VERSION:2.0
CALSCALE:GREGORIAN
PRODID:-//Diputació de Barcelona//DibaCMS//EN
BEGIN:VEVENT
UID:2902
DTSTAMP:20260421T160019
DTSTART:20171122T110000
DTEND:20171122T120000
SUMMARY:Anem al Teatre
LOCATION:C/ Pilar, 13 08786 Capellades
METHOD:PUBLISH
X-WR-CALNAME:capellades@capellades.cat
X-WR-TIMEZONE:Europe/Madrid
DESCRIPTION:Nou cicle Anem al Teatre.

URI:https://www.capellades.cat/actualitat/agenda/anem-al-teatre.html
CLASS:PUBLIC
END:VEVENT
END:VCALENDAR
