BEGIN:VCALENDAR
VERSION:2.0
CALSCALE:GREGORIAN
PRODID:-//Diputació de Barcelona//DibaCMS//EN
BEGIN:VEVENT
UID:2901
DTSTAMP:20260423T103902
DTSTART:20171121T180000
DTEND:20171121T190000
SUMMARY:Hora del Conte: Alimentació saludable
LOCATION:C/ Pilar, 2 08786 Capellades
METHOD:PUBLISH
X-WR-CALNAME:capellades@capellades.cat
X-WR-TIMEZONE:Europe/Madrid
DESCRIPTION:Nova proposta de la Biblioteca El Safareig de Capellades per aquest dimarts.

URI:https://www.capellades.cat/actualitat/agenda/hora-del-conte-alimentacio-saludable.html
CLASS:PUBLIC
END:VEVENT
END:VCALENDAR
