BEGIN:VCALENDAR
VERSION:2.0
CALSCALE:GREGORIAN
PRODID:-//Diputació de Barcelona//DibaCMS//EN
BEGIN:VEVENT
UID:2900
DTSTAMP:20260421T103951
DTSTART:20171121T090000
DTEND:20171121T170000
SUMMARY:Excursió a Agramunt
LOCATION:
METHOD:PUBLISH
X-WR-CALNAME:capellades@capellades.cat
X-WR-TIMEZONE:Europe/Madrid
DESCRIPTION:Nova proposta per als avis i àvies de Cal Ponet.

URI:https://www.capellades.cat/actualitat/agenda/excursio-a-agramunt.html
CLASS:PUBLIC
END:VEVENT
END:VCALENDAR
