BEGIN:VCALENDAR
VERSION:2.0
CALSCALE:GREGORIAN
PRODID:-//Diputació de Barcelona//DibaCMS//EN
BEGIN:VEVENT
UID:2899
DTSTAMP:20260421T185107
DTSTART:20171120T211500
DTEND:20171120T223000
SUMMARY:31è. Audiciona't
LOCATION:C/ Divina Pastora, 10 08786 Capellades
METHOD:PUBLISH
X-WR-CALNAME:capellades@capellades.cat
X-WR-TIMEZONE:Europe/Madrid
DESCRIPTION:Aquest dilluns es farà la sessió número 31 de l'Audiciona't, proposta de l'Escola de Música de Capellades per atançar-nos a la música.

URI:https://www.capellades.cat/actualitat/agenda/31e-audicionat.html
CLASS:PUBLIC
END:VEVENT
END:VCALENDAR
