BEGIN:VCALENDAR
VERSION:2.0
CALSCALE:GREGORIAN
PRODID:-//Diputació de Barcelona//DibaCMS//EN
BEGIN:VEVENT
UID:2898
DTSTAMP:20260421T101558
DTSTART:20171120T090000
DTEND:20171120T123000
SUMMARY:Taller escolar de descoberta de l'orgue de Capellades
LOCATION:Plaça Verdaguer 08786 Capellades
METHOD:PUBLISH
X-WR-CALNAME:capellades@capellades.cat
X-WR-TIMEZONE:Europe/Madrid
DESCRIPTION:Aquest any es fa la segona edició del Festival d'Orgue de Capellades i es repeteix amb les escoles una proposta que l'any passat va tenir molt bona acollida.

URI:https://www.capellades.cat/actualitat/agenda/taller-escolar-de-descoberta-de-lorgue-de-capellades.html
CLASS:PUBLIC
END:VEVENT
END:VCALENDAR
