BEGIN:VCALENDAR
VERSION:2.0
CALSCALE:GREGORIAN
PRODID:-//Diputació de Barcelona//DibaCMS//EN
BEGIN:VEVENT
UID:2887
DTSTAMP:20260422T064935
DTSTART:20171119T090000
DTEND:20171119T130000
SUMMARY:Caminant per la comarca
LOCATION:
METHOD:PUBLISH
X-WR-CALNAME:capellades@capellades.cat
X-WR-TIMEZONE:Europe/Madrid
DESCRIPTION:Nova sortida de Caminant per la Comarca, de l'Associació d'Esports de Muntanya de Capellades.

URI:https://www.capellades.cat/actualitat/agenda/2887-caminant-per-la-comarca.html
CLASS:PUBLIC
END:VEVENT
END:VCALENDAR
