BEGIN:VCALENDAR
VERSION:2.0
CALSCALE:GREGORIAN
PRODID:-//Diputació de Barcelona//DibaCMS//EN
BEGIN:VEVENT
UID:2886
DTSTAMP:20260422T093208
DTSTART:20171118T210000
DTEND:20171119T180000
SUMMARY:S'estrena "El Petit Príncep"
LOCATION:
METHOD:PUBLISH
X-WR-CALNAME:capellades@capellades.cat
X-WR-TIMEZONE:Europe/Madrid
DESCRIPTION:El Grup Teatral de Capellades estrenarà aquest cap de setmana l'obra "El Petit Príncep".

URI:https://www.capellades.cat/actualitat/agenda/sestrena-el-petit-princep.html
CLASS:PUBLIC
END:VEVENT
END:VCALENDAR
