BEGIN:VCALENDAR
VERSION:2.0
CALSCALE:GREGORIAN
PRODID:-//Diputació de Barcelona//DibaCMS//EN
BEGIN:VEVENT
UID:2885
DTSTAMP:20260422T162926
DTSTART:20171118T090000
DTEND:20171115T223000
SUMMARY:Anem a buscar bolets
LOCATION:
METHOD:PUBLISH
X-WR-CALNAME:capellades@capellades.cat
X-WR-TIMEZONE:Europe/Madrid
DESCRIPTION:Anem a buscar bolets! És una proposta de La Lliga per aquest dissabte 18 de novembre. A les 9 del matí es sortirà a buscar bolets pels voltants de Capellades.

URI:https://www.capellades.cat/actualitat/agenda/anem-a-buscar-bolets.html
CLASS:PUBLIC
END:VEVENT
END:VCALENDAR
