BEGIN:VCALENDAR
VERSION:2.0
CALSCALE:GREGORIAN
PRODID:-//Diputació de Barcelona//DibaCMS//EN
BEGIN:VEVENT
UID:2878
DTSTAMP:20260422T105135
DTSTART:20171117T200000
DTEND:20171117T220000
SUMMARY:Cinefòrum Josep Romanyà Montcada
LOCATION:C/ del Fossar, 4 08786 Capellades
METHOD:PUBLISH
X-WR-CALNAME:capellades@capellades.cat
X-WR-TIMEZONE:Europe/Madrid
DESCRIPTION:Aquest mes de novembre el Cinefòrum Josep Romanyà Montcada serà sobre la pel·lícula "Silencio de amor". La presentació i el col·loqui aniran a càrrec de Bernat Sellarès.

URI:https://www.capellades.cat/actualitat/agenda/2878-cineforum-josep-romanya-montcada.html
CLASS:PUBLIC
END:VEVENT
END:VCALENDAR
