BEGIN:VCALENDAR
VERSION:2.0
CALSCALE:GREGORIAN
PRODID:-//Diputació de Barcelona//DibaCMS//EN
BEGIN:VEVENT
UID:2876
DTSTAMP:20260422T075349
DTSTART:20171117T190000
DTEND:20171117T210000
SUMMARY:Documental del mes: "Venus"
LOCATION:C/ Pilar, 13 08786 Capellades
METHOD:PUBLISH
X-WR-CALNAME:capellades@capellades.cat
X-WR-TIMEZONE:Europe/Madrid
DESCRIPTION:El documental del mes és "Venus, confessions de dones nues".

URI:https://www.capellades.cat/actualitat/agenda/documental-del-mes-venus.html
CLASS:PUBLIC
END:VEVENT
END:VCALENDAR
